BEGIN:VCALENDAR
VERSION:2.0
PRODID:-//NIJO (National Institute for Jail Operations) - ECPv6.15.20//NONSGML v1.0//EN
CALSCALE:GREGORIAN
METHOD:PUBLISH
X-WR-CALNAME:NIJO (National Institute for Jail Operations)
X-ORIGINAL-URL:https://jailtraining.org
X-WR-CALDESC:Events for NIJO (National Institute for Jail Operations)
REFRESH-INTERVAL;VALUE=DURATION:PT1H
X-Robots-Tag:noindex
X-PUBLISHED-TTL:PT1H
BEGIN:VTIMEZONE
TZID:UTC
BEGIN:STANDARD
TZOFFSETFROM:+0000
TZOFFSETTO:+0000
TZNAME:UTC
DTSTART:20240101T000000
END:STANDARD
END:VTIMEZONE
BEGIN:VEVENT
DTSTART;VALUE=DATE:20250331
DTEND;VALUE=DATE:20250403
DTSTAMP:20260425T071234
CREATED:20241101T205820Z
LAST-MODIFIED:20241101T205820Z
UID:10000050-1743379200-1743638399@jailtraining.org
SUMMARY:Kansas Jail Supervisory Training March 31-April 2\, 2025
DESCRIPTION:The Kansas Jail Training Academy (KJTA) continues to operate successfully for basic training for corrections officers\, however\, many agencies have expressed the need to offer corresponding legal-based training specifically designed for supervisors. With input from the KSA Jail Committee\, the National Institute for Jail Operations (NIJO) has designed a curriculum in 8 core supervisory areas. Attendees are encouraged to come learn\, apply and share these essential skills.\n\n  \nTo register for 2025 dates or to learn more\, click here.  \n\nDownload printable flyer here.\n  \n \n  \n 
URL:https://jailtraining.org/event/kst-2025-1/
LOCATION:Kansas Law Enforcement Training Center (KLETC)\, 11009 South Hornet\, Hutchinson\, KS\, 67501\, United States
CATEGORIES:NIJO Legal-Based Jail Training Seminars
ATTACH;FMTTYPE=image/webp:https://jailtraining.org/wp-content/uploads/2024/11/KST_Website-Thumbnail_2024.10.21-03.webp
END:VEVENT
BEGIN:VEVENT
DTSTART;VALUE=DATE:20250402
DTEND;VALUE=DATE:20250405
DTSTAMP:20260425T071234
CREATED:20241101T210330Z
LAST-MODIFIED:20241101T210330Z
UID:10000051-1743552000-1743811199@jailtraining.org
SUMMARY:Kansas Jail Supervisory Training April 2-4\, 2025
DESCRIPTION:The Kansas Jail Training Academy (KJTA) continues to operate successfully for basic training for corrections officers\, however\, many agencies have expressed the need to offer corresponding legal-based training specifically designed for supervisors. With input from the KSA Jail Committee\, the National Institute for Jail Operations (NIJO) has designed a curriculum in 8 core supervisory areas. Attendees are encouraged to come learn\, apply and share these essential skills.\n\n  \nTo register for 2025 dates or to learn more\, click here.  \n\nDownload printable flyer here.\n  \n \n  \n 
URL:https://jailtraining.org/event/kst-2025-2/
LOCATION:Kansas Law Enforcement Training Center (KLETC)\, 11009 South Hornet\, Hutchinson\, KS\, 67501\, United States
CATEGORIES:NIJO Legal-Based Jail Training Seminars
ATTACH;FMTTYPE=image/webp:https://jailtraining.org/wp-content/uploads/2024/11/KST_Website-Thumbnail_2024.10.21-03.webp
END:VEVENT
END:VCALENDAR