BEGIN:VCALENDAR
VERSION:2.0
PRODID:-//NIJO (National Institute for Jail Operations) - ECPv6.15.20//NONSGML v1.0//EN
CALSCALE:GREGORIAN
METHOD:PUBLISH
X-WR-CALNAME:NIJO (National Institute for Jail Operations)
X-ORIGINAL-URL:https://jailtraining.org
X-WR-CALDESC:Events for NIJO (National Institute for Jail Operations)
REFRESH-INTERVAL;VALUE=DURATION:PT1H
X-Robots-Tag:noindex
X-PUBLISHED-TTL:PT1H
BEGIN:VTIMEZONE
TZID:UTC
BEGIN:STANDARD
TZOFFSETFROM:+0000
TZOFFSETTO:+0000
TZNAME:UTC
DTSTART:20240101T000000
END:STANDARD
END:VTIMEZONE
BEGIN:VEVENT
DTSTART;VALUE=DATE:20250508
DTEND;VALUE=DATE:20250510
DTSTAMP:20260425T083733
CREATED:20250328T235355Z
LAST-MODIFIED:20250328T235355Z
UID:10000059-1746662400-1746835199@jailtraining.org
SUMMARY:Alabama Jail Administrators Council (AJAC) Training - May 2025\, 2025
DESCRIPTION:Alabama Jail Administrators Council (AJAC) Training\n\nTOPICS:           Body Language & Conflict Management Techniques\nINSTRUCTOR: Dr. Steve Sampson\nDATES:             May 8-9\, 2025\nLOCATION:      Pell City Municipal Complex\nDownload flyer here.
URL:https://jailtraining.org/event/ajac-cmt-training-may-2025/
LOCATION:AL – Pell City Municipal Complex\, 1000 Bruce Etheridge Parkway\, Pell City\, AL\, 35128\, United States
CATEGORIES:NIJO Legal-Based Jail Training Seminars
ATTACH;FMTTYPE=image/webp:https://jailtraining.org/wp-content/uploads/2025/03/AJAC-Logo_2023_no-background.webp
END:VEVENT
BEGIN:VEVENT
DTSTART;VALUE=DATE:20250519
DTEND;VALUE=DATE:20250524
DTSTAMP:20260425T083733
CREATED:20241022T210024Z
LAST-MODIFIED:20241022T210129Z
UID:10000048-1747612800-1748044799@jailtraining.org
SUMMARY:Kansas Jail Training Academy (KJTA) May 19-23\, 2025
DESCRIPTION:The Kansas Sheriffs’ Association and National Institute for Jail Operations (NIJO) are proud to once again offer the Kansas Jail Training Academy (KJTA)\, a full five days of legal-based basic training specifically for detention officers.  Taught by trained NIJO instructors\, attendees will receive basic training on a variety of critical topics and issues founded on case law specific to Kansas jails. The hands-on group oriented course includes complete testing for individual knowledge and comprehension.  Upon successful completion\, attendees can apply the classroom time and testing toward national certification!  \n  \nTo register for 2025 dates or to learn more\, click here.  \n\nDownload printable flyer here.\n  \n \n  \n 
URL:https://jailtraining.org/event/kjta-may-2025/
LOCATION:Kansas Law Enforcement Training Center (KLETC)\, 11009 South Hornet\, Hutchinson\, KS\, 67501\, United States
CATEGORIES:NIJO Legal-Based Jail Training Seminars
ATTACH;FMTTYPE=image/webp:https://jailtraining.org/wp-content/uploads/2023/12/KJTA.webp
END:VEVENT
BEGIN:VEVENT
DTSTART;TZID=UTC:20250527T130000
DTEND;TZID=UTC:20250527T170000
DTSTAMP:20260425T083733
CREATED:20250429T113255Z
LAST-MODIFIED:20250514T175149Z
UID:10000060-1748350800-1748365200@jailtraining.org
SUMMARY:ACIP Training Webinar - Report Writing & Documentation (May 27 and 29\, 2025)
DESCRIPTION:Arizona Counties Insurance Pool (ACIP) Training Webinar\nTOPICS:\nReport Writing & Documentation: Lessons from the Field\nINSTRUCTOR:\nRachel Love \nDATES:\nTwo Available Dates\nMay 27\, 2025 – 1300 – 1700\nMay 29\, 2025 – 0800 – 1200 \nLOCATION:\nZoom Meeting\n \nJoin NIJO Legal Advisor and Instructor Rachel Love for a practical training session focused on the critical skills of report writing and documentation. This 4-hour course is designed especially for line staff and supervisors\, highlighting how the work they do—whether during an incident or routine operations—can have lasting impacts on the agency\, particularly when scrutinized in litigation. \nWith a style that’s lighter on legal jargon and heavy on real-world examples\, Rachel will share valuable lessons learned from actual cases—what hurt\, what helped\, and what made all the difference in court. Participants will review overarching topics including: \n\nUse of Force Documentation\nIn-Custody Suicides Incident Documentation and Investigation\nMental Health Management Documentation\n\nShare/Download flyer here.
URL:https://jailtraining.org/event/acip-training-webinar-may-27-2025/
LOCATION:Virtual Meeting\, AL
CATEGORIES:NIJO Legal-Based Jail Training Seminars
ATTACH;FMTTYPE=image/webp:https://jailtraining.org/wp-content/uploads/2025/04/ACIP-Webinar_Thumbnail_2025.04.28.webp
END:VEVENT
BEGIN:VEVENT
DTSTART;TZID=UTC:20250529T080000
DTEND;TZID=UTC:20250529T120000
DTSTAMP:20260425T083733
CREATED:20250429T113541Z
LAST-MODIFIED:20250514T170608Z
UID:10000061-1748505600-1748520000@jailtraining.org
SUMMARY:ACIP Training Webinar - Report Writing & Documentation (May 27 and 29\, 2025)
DESCRIPTION:Arizona Counties Insurance Pool (ACIP) Training Webinar\nTOPICS:\nReport Writing & Documentation: Lessons from the Field\nINSTRUCTOR:\nRachel Love \nDATES:\nTwo Available Dates\nMay 27\, 2025 – 1300 – 1700\nMay 29\, 2025 – 0800 – 1200 \nLOCATION:\nZoom Meeting\n \nJoin NIJO Legal Advisor and Instructor Rachel Love for a practical training session focused on the critical skills of report writing and documentation. This 4-hour course is designed especially for line staff and supervisors\, highlighting how the work they do—whether during an incident or routine operations—can have lasting impacts on the agency\, particularly when scrutinized in litigation. \nWith a style that’s lighter on legal jargon and heavy on real-world examples\, Rachel will share valuable lessons learned from actual cases—what hurt\, what helped\, and what made all the difference in court. Participants will review overarching topics including: \n\nUse of Force Documentation\nIn-Custody Suicides Incident Documentation and Investigation\nMental Health Management Documentation\n\nShare/Download flyer here.
URL:https://jailtraining.org/event/acip-training-webinar-report-writing-documentation-may-29-2025/
LOCATION:Virtual Meeting\, AL
CATEGORIES:NIJO Legal-Based Jail Training Seminars
ATTACH;FMTTYPE=image/webp:https://jailtraining.org/wp-content/uploads/2025/04/ACIP-Webinar_Thumbnail_2025.04.28.webp
END:VEVENT
END:VCALENDAR