BEGIN:VCALENDAR
VERSION:2.0
PRODID:-//NIJO (National Institute for Jail Operations) - ECPv6.15.20//NONSGML v1.0//EN
CALSCALE:GREGORIAN
METHOD:PUBLISH
X-ORIGINAL-URL:https://jailtraining.org
X-WR-CALDESC:Events for NIJO (National Institute for Jail Operations)
REFRESH-INTERVAL;VALUE=DURATION:PT1H
X-Robots-Tag:noindex
X-PUBLISHED-TTL:PT1H
BEGIN:VTIMEZONE
TZID:UTC
BEGIN:STANDARD
TZOFFSETFROM:+0000
TZOFFSETTO:+0000
TZNAME:UTC
DTSTART:20240101T000000
END:STANDARD
END:VTIMEZONE
BEGIN:VEVENT
DTSTART;VALUE=DATE:20251110
DTEND;VALUE=DATE:20251115
DTSTAMP:20260424T121534
CREATED:20241022T202238Z
LAST-MODIFIED:20241101T204629Z
UID:10000047-1762732800-1763164799@jailtraining.org
SUMMARY:Kansas Jail Training Academy (KJTA) November 10-14\, 2025
DESCRIPTION:The Kansas Sheriffs’ Association and National Institute for Jail Operations (NIJO) are proud to once again offer the Kansas Jail Training Academy (KJTA)\, a full five days of legal-based basic training specifically for detention officers.  Taught by trained NIJO instructors\, attendees will receive basic training on a variety of critical topics and issues founded on case law specific to Kansas jails. The hands-on group oriented course includes complete testing for individual knowledge and comprehension.  Upon successful completion\, attendees can apply the classroom time and testing toward national certification!  \n  \nTo register for 2025 dates or to learn more\, click here.  \n\nDownload printable flyer here.\n  \n \n  \n 
URL:https://jailtraining.org/event/kjta-nov-2025/
LOCATION:Kansas Law Enforcement Training Center (KLETC)\, 11009 South Hornet\, Hutchinson\, KS\, 67501\, United States
CATEGORIES:NIJO Legal-Based Jail Training Seminars
ATTACH;FMTTYPE=image/webp:https://jailtraining.org/wp-content/uploads/2023/12/KJTA.webp
END:VEVENT
END:VCALENDAR